BEGIN:VCALENDAR
VERSION:2.0
PRODID:-//Tukios.com/
BEGIN:VEVENT
UID:ba2cfdea-b265-485c-a6db-58de00b8d301@obits.barilefuneral.com
DTSTAMP:20260423T163832Z
DTSTART:20260427T130000Z
DTEND:20260427T143000Z
SUMMARY:Visitation
DESCRIPTION:
URL:https://obits.barilefuneral.com/edward-ed-marchand
LOCATION: 11 Linden Street  Reading MA 01867
GEO:42.5234501;-71.1052785
END:VEVENT
END:VCALENDAR