BEGIN:VCALENDAR
VERSION:2.0
PRODID:-//Tukios.com/
BEGIN:VEVENT
UID:ae7b1cbb-46c1-4631-9e33-f81d642814bc@obits.barilefuneral.com
DTSTAMP:20260423T164138Z
DTSTART:20260427T150000Z
DTEND:20260427T160000Z
SUMMARY:Celebration of Life
DESCRIPTION:
URL:https://obits.barilefuneral.com/edward-ed-marchand
LOCATION: 300 Haverhill St  Reading MA 01867
GEO:42.5390876;-71.0888214
END:VEVENT
END:VCALENDAR