BEGIN:VCALENDAR
VERSION:2.0
PRODID:-//Tukios.com/
BEGIN:VEVENT
UID:72c8d7c9-e803-4672-aee6-8cb6d49ef75d@obits.barilefuneral.com
DTSTAMP:20260423T163909Z
DTSTART:20260427
SUMMARY:Interment
DESCRIPTION:
URL:https://obits.barilefuneral.com/edward-ed-marchand
LOCATION:  Forest Glen Rd  Reading MA 01867
GEO:42.540518;-71.10268
END:VEVENT
END:VCALENDAR