BEGIN:VCALENDAR
VERSION:2.0
PRODID:-//Tukios.com/
BEGIN:VEVENT
UID:35112079-65f1-41fa-9503-ab04f377f0e5@obits.barilefuneral.com
DTSTAMP:20260420T180408Z
DTSTART:20260423T200000Z
DTEND:20260424T000000Z
SUMMARY:Visitation
DESCRIPTION:
URL:https://obits.barilefuneral.com/elizabeth-betty-dimario
LOCATION: 335 Park St.  North Reading MA 01864
GEO:42.5658159;-71.1077609
END:VEVENT
END:VCALENDAR