BEGIN:VCALENDAR
VERSION:2.0
PRODID:-//Tukios.com/
BEGIN:VEVENT
UID:e689963f-738f-41db-957c-7ff36ade957c@obits.barilefuneral.com
DTSTAMP:20260422T085709Z
DTSTART:20260424T143000Z
DTEND:20260424T153000Z
SUMMARY:Celebration of Life
DESCRIPTION:
URL:https://obits.barilefuneral.com/elizabeth-betty-dimario
LOCATION:  MA-62  North Reading MA 01864
GEO:42.5734734;-71.083581
END:VEVENT
END:VCALENDAR