BEGIN:VCALENDAR
VERSION:2.0
PRODID:-//Tukios.com/
BEGIN:VEVENT
UID:dd6552f1-233b-4a25-a755-ba02934460a4@obits.barilefuneral.com
DTSTAMP:20260420T175310Z
DTSTART:20260424
SUMMARY:Interment
DESCRIPTION:
URL:https://obits.barilefuneral.com/elizabeth-betty-dimario
LOCATION: 302 Elm St  Everett MA 02149
GEO:42.4156474;-71.0343401
END:VEVENT
END:VCALENDAR