BEGIN:VCALENDAR
VERSION:2.0
PRODID:-//Tukios.com/
BEGIN:VEVENT
UID:5d08a4d8-4f3d-4de2-9599-a8fd64051e95@obits.barilefuneral.com
DTSTAMP:20260422T174902Z
DTSTART:20260426T133000Z
DTEND:20260426T150000Z
SUMMARY:Visitation
DESCRIPTION:
URL:https://obits.barilefuneral.com/mark-kerrigan
LOCATION: 482 Main Street  Stoneham MA 02180
GEO:42.501133;-71.0692322
END:VEVENT
END:VCALENDAR