BEGIN:VCALENDAR
VERSION:2.0
PRODID:-//Tukios.com/
BEGIN:VEVENT
UID:3e6d158a-72bd-4b18-9f95-c38521d6a1b6@obits.barilefuneral.com
DTSTAMP:20260422T174903Z
DTSTART:20260426T150000Z
DTEND:20260426T160000Z
SUMMARY:Celebration of Life
DESCRIPTION:
URL:https://obits.barilefuneral.com/mark-kerrigan
LOCATION: 482 Main Street  Stoneham MA 02180
GEO:42.501133;-71.0692322
END:VEVENT
END:VCALENDAR